BEGIN:VCALENDAR
VERSION:2.0
PRODID:-//Jewish Family and Children’s Service of Minnesota - ECPv6.15.20//NONSGML v1.0//EN
CALSCALE:GREGORIAN
METHOD:PUBLISH
X-ORIGINAL-URL:https://www.jfcsmn.org
X-WR-CALDESC:Events for Jewish Family and Children’s Service of Minnesota
REFRESH-INTERVAL;VALUE=DURATION:PT1H
X-Robots-Tag:noindex
X-PUBLISHED-TTL:PT1H
BEGIN:VTIMEZONE
TZID:America/Chicago
BEGIN:DAYLIGHT
TZOFFSETFROM:-0600
TZOFFSETTO:-0500
TZNAME:CDT
DTSTART:20250309T080000
END:DAYLIGHT
BEGIN:STANDARD
TZOFFSETFROM:-0500
TZOFFSETTO:-0600
TZNAME:CST
DTSTART:20251102T070000
END:STANDARD
BEGIN:DAYLIGHT
TZOFFSETFROM:-0600
TZOFFSETTO:-0500
TZNAME:CDT
DTSTART:20260308T080000
END:DAYLIGHT
BEGIN:STANDARD
TZOFFSETFROM:-0500
TZOFFSETTO:-0600
TZNAME:CST
DTSTART:20261101T070000
END:STANDARD
BEGIN:DAYLIGHT
TZOFFSETFROM:-0600
TZOFFSETTO:-0500
TZNAME:CDT
DTSTART:20270314T080000
END:DAYLIGHT
BEGIN:STANDARD
TZOFFSETFROM:-0500
TZOFFSETTO:-0600
TZNAME:CST
DTSTART:20271107T070000
END:STANDARD
END:VTIMEZONE
BEGIN:VEVENT
DTSTART;TZID=America/Chicago:20260127T140000
DTEND;TZID=America/Chicago:20260127T173000
DTSTAMP:20260422T064537
CREATED:20251202T170909Z
LAST-MODIFIED:20260106T205547Z
UID:10001297-1769522400-1769535000@www.jfcsmn.org
SUMMARY:Jewish Grandparents Network and PJ Library Minnesota: Learning Fest 2026
DESCRIPTION:Tuesday\, Jan. 27 | 2:00 – 5:30 p.m. \nWe’re excited to invite you to something historic: the first global virtual gathering of Jewish grandparents! The world has never moved faster. Your grandchildren navigate TikTok and Taylor Swift\, AI and anxiety. Traditions feel fragile. Family dinners are complicated. Through it all\, you are the keeper of stories\, the holder of hearts\, the bridge between what is and what will be. This isn’t another webinar. It’s a space to connect\, learn\, and celebrate your irreplaceable role in your family’s Jewish story. \nWhat to Expect: \nKEYNOTE: What Parents Want Grandparents to Know About Raising Kids Today with Dr. Becky Kennedy\, clinical psychologist and social media megastar. \n10 Expert Sessions: Topics that matter most: long-distance grandparenting\, navigating interfaith families\, keeping Jewish traditions alive\, and much more. \nSmall-Group Conversations: Meet grandparents who share your interests (20–24 people max). \nReal-Time Connection Tools: Stay in touch with your group and build relationships that last beyond the event. \nHow to Join: \n\nRegister today! The Jewish Grandparents Network has extended us a 15% discount.\nReceive your unique Zoom Join link by email.\nOn Jan. 27th\, click to join—it’s that simple!\n\nDon’t miss the moment — Join grandparents from across the world in a space designed just for you. \nLearn more and register!
URL:https://www.jfcsmn.org/event/jewish-grandparents-network-and-pj-library-minnesota-learning-fest-2026/
CATEGORIES:PJ Library
ATTACH;FMTTYPE=image/png:https://www.jfcsmn.org/wp-content/uploads/2025/12/PJ_grandparents-network_26-e1764606198126.png
ORGANIZER;CN="Stacey Spencer":MAILTO:sspencer@jfcsmn.org
END:VEVENT
END:VCALENDAR