BEGIN:VCALENDAR
VERSION:2.0
PRODID:-//Jewish Family and Children’s Service of Minnesota - ECPv6.15.20//NONSGML v1.0//EN
CALSCALE:GREGORIAN
METHOD:PUBLISH
X-WR-CALNAME:Jewish Family and Children’s Service of Minnesota
X-ORIGINAL-URL:https://www.jfcsmn.org
X-WR-CALDESC:Events for Jewish Family and Children’s Service of Minnesota
REFRESH-INTERVAL;VALUE=DURATION:PT1H
X-Robots-Tag:noindex
X-PUBLISHED-TTL:PT1H
BEGIN:VTIMEZONE
TZID:America/Chicago
BEGIN:DAYLIGHT
TZOFFSETFROM:-0600
TZOFFSETTO:-0500
TZNAME:CDT
DTSTART:20250309T080000
END:DAYLIGHT
BEGIN:STANDARD
TZOFFSETFROM:-0500
TZOFFSETTO:-0600
TZNAME:CST
DTSTART:20251102T070000
END:STANDARD
BEGIN:DAYLIGHT
TZOFFSETFROM:-0600
TZOFFSETTO:-0500
TZNAME:CDT
DTSTART:20260308T080000
END:DAYLIGHT
BEGIN:STANDARD
TZOFFSETFROM:-0500
TZOFFSETTO:-0600
TZNAME:CST
DTSTART:20261101T070000
END:STANDARD
BEGIN:DAYLIGHT
TZOFFSETFROM:-0600
TZOFFSETTO:-0500
TZNAME:CDT
DTSTART:20270314T080000
END:DAYLIGHT
BEGIN:STANDARD
TZOFFSETFROM:-0500
TZOFFSETTO:-0600
TZNAME:CST
DTSTART:20271107T070000
END:STANDARD
END:VTIMEZONE
BEGIN:VEVENT
DTSTART;TZID=America/Chicago:20260708T180000
DTEND;TZID=America/Chicago:20260708T200000
DTSTAMP:20260420T055322
CREATED:20260417T192601Z
LAST-MODIFIED:20260417T192601Z
UID:10001692-1783533600-1783540800@www.jfcsmn.org
SUMMARY:J-Pride Happy Hour
DESCRIPTION:Join J-Pride\, YALA Minneapolis\, Moishe House and NextGen on the patio at Dreamstate Cafe for our annual Pride Happy Hour! We’ll come together in community to share stories about Pride and celebrate an exciting conclusion to our 2026 Pride season with a drink (and snacks!) on J-Pride. We hope to see you there!
URL:https://www.jfcsmn.org/event/j-pride-happy-hour/
LOCATION:Dreamstate Cafe\, 2558 Lyndale Ave S\, Minneapolis\, MN\, 55405
CATEGORIES:J Pride,PRIDE
ATTACH;FMTTYPE=image/png:https://www.jfcsmn.org/wp-content/uploads/2026/04/Pride_happy-hour-e1776212893349.png
ORGANIZER;CN="Hunter Wengersky":MAILTO:hwengersky@jfcsmn.org
END:VEVENT
END:VCALENDAR