BEGIN:VCALENDAR
VERSION:2.0
PRODID:-//Jewish Family and Children’s Service of Minnesota - ECPv6.15.20//NONSGML v1.0//EN
CALSCALE:GREGORIAN
METHOD:PUBLISH
X-ORIGINAL-URL:https://www.jfcsmn.org
X-WR-CALDESC:Events for Jewish Family and Children’s Service of Minnesota
REFRESH-INTERVAL;VALUE=DURATION:PT1H
X-Robots-Tag:noindex
X-PUBLISHED-TTL:PT1H
BEGIN:VTIMEZONE
TZID:America/Chicago
BEGIN:DAYLIGHT
TZOFFSETFROM:-0600
TZOFFSETTO:-0500
TZNAME:CDT
DTSTART:20250309T080000
END:DAYLIGHT
BEGIN:STANDARD
TZOFFSETFROM:-0500
TZOFFSETTO:-0600
TZNAME:CST
DTSTART:20251102T070000
END:STANDARD
BEGIN:DAYLIGHT
TZOFFSETFROM:-0600
TZOFFSETTO:-0500
TZNAME:CDT
DTSTART:20260308T080000
END:DAYLIGHT
BEGIN:STANDARD
TZOFFSETFROM:-0500
TZOFFSETTO:-0600
TZNAME:CST
DTSTART:20261101T070000
END:STANDARD
BEGIN:DAYLIGHT
TZOFFSETFROM:-0600
TZOFFSETTO:-0500
TZNAME:CDT
DTSTART:20270314T080000
END:DAYLIGHT
BEGIN:STANDARD
TZOFFSETFROM:-0500
TZOFFSETTO:-0600
TZNAME:CST
DTSTART:20271107T070000
END:STANDARD
END:VTIMEZONE
BEGIN:VEVENT
DTSTART;TZID=America/Chicago:20260603T180000
DTEND;TZID=America/Chicago:20260603T200000
DTSTAMP:20260422T080549
CREATED:20260417T205628Z
LAST-MODIFIED:20260417T205628Z
UID:10001686-1780509600-1780516800@www.jfcsmn.org
SUMMARY:Pride Coffee Social
DESCRIPTION:Join J-Pride for our annual Pride Coffee Social\, where we’ll gather in community to kick off Pride season\, make posters for the Pride Parade\, and enjoy an NA beverage on us. All LGBTQ+ Jews and allies are welcome! \nRSVPs encouraged\, walk-ins welcome.
URL:https://www.jfcsmn.org/event/pride-coffee-social/
LOCATION:Queermunity\, 3036 Hennepin Ave\, Minneapolis\, MN
CATEGORIES:J Pride,PRIDE
ATTACH;FMTTYPE=image/png:https://www.jfcsmn.org/wp-content/uploads/2026/04/Pride_coffee-e1776211358548.png
ORGANIZER;CN="Hunter Wengersky":MAILTO:hwengersky@jfcsmn.org
END:VEVENT
END:VCALENDAR